BEGIN:VCALENDAR
VERSION:2.0
PRODID:-//Santa Maria Goretti Centre - ECPv6.15.18//NONSGML v1.0//EN
CALSCALE:GREGORIAN
METHOD:PUBLISH
X-ORIGINAL-URL:https://santamariagoretticentre.com
X-WR-CALDESC:Events for Santa Maria Goretti Centre
REFRESH-INTERVAL;VALUE=DURATION:PT1H
X-Robots-Tag:noindex
X-PUBLISHED-TTL:PT1H
BEGIN:VTIMEZONE
TZID:America/Edmonton
BEGIN:DAYLIGHT
TZOFFSETFROM:-0700
TZOFFSETTO:-0600
TZNAME:MDT
DTSTART:20200308T090000
END:DAYLIGHT
BEGIN:STANDARD
TZOFFSETFROM:-0600
TZOFFSETTO:-0700
TZNAME:MST
DTSTART:20201101T080000
END:STANDARD
BEGIN:DAYLIGHT
TZOFFSETFROM:-0700
TZOFFSETTO:-0600
TZNAME:MDT
DTSTART:20210314T090000
END:DAYLIGHT
BEGIN:STANDARD
TZOFFSETFROM:-0600
TZOFFSETTO:-0700
TZNAME:MST
DTSTART:20211107T080000
END:STANDARD
BEGIN:DAYLIGHT
TZOFFSETFROM:-0700
TZOFFSETTO:-0600
TZNAME:MDT
DTSTART:20220313T090000
END:DAYLIGHT
BEGIN:STANDARD
TZOFFSETFROM:-0600
TZOFFSETTO:-0700
TZNAME:MST
DTSTART:20221106T080000
END:STANDARD
END:VTIMEZONE
BEGIN:VEVENT
DTSTART;TZID=America/Edmonton:20211231T180000
DTEND;TZID=America/Edmonton:20211231T230000
DTSTAMP:20260417T152248
CREATED:20191103T182635Z
LAST-MODIFIED:20211224T031800Z
UID:9385-1640973600-1640991600@santamariagoretticentre.com
SUMMARY:2021 New Years Eve Celebration!
DESCRIPTION:Celebrate the end of another year with dinner at Santa Maria Goretti Centre! We have partnered with the Knights of Columbus SMG Council to bring you this years New Years Eve celebration! As another challenging year has come and gone\, we look towards 2022 with optimism and hope. The capacity of this event will be limited to 150 people ensure everyone can enjoy the function comfortably. \nWith the new restrictions noted on December 21st\, we will be unable to have a dance (no interactive activities) and liquor service must end by 11pm. So our celebration will simply be a meal with light background music. \n$65 per adult ($40 for children 5-12 years old). \n\n\n\nDoors: 6pm\, Dinner: 7pm. \nThe menu is set to include: \n\nGlass of Prosecco\nAntipasto\nGin and tomato bisque\nCheese tortellini with smoked salmon and dill sauce\nMesclun greens with champagne vinegar\nRoasted Alberta beef striploin\nRosemary potatoes\nVegetable jardinière\nPanna cotta and cannoli \nOur venue is following the Restrictions Exemption Program\, and will require all guests to comply with the noted protocols. \nQualified guests can purchase tickets at Santa Maria Goretti Centre. Please call (780) 426-5026 to reserve your seats now.
URL:https://santamariagoretticentre.com/event/nye2021/
LOCATION:Santa Maria Goretti Centre\, 11050-90 Street NW\, Edmonton\, Alberta\, T5H 1S5\, Canada
CATEGORIES:New Years Eve
ATTACH;FMTTYPE=image/jpeg:https://santamariagoretticentre.com/wp-content/uploads/2019/11/photo-1514828980084-9462f7d03afc.jpeg
END:VEVENT
END:VCALENDAR